BEGIN:VCALENDAR
VERSION:2.0
PRODID:-//Niagara Symphony - ECPv6.15.18//NONSGML v1.0//EN
CALSCALE:GREGORIAN
METHOD:PUBLISH
X-ORIGINAL-URL:https://niagarasymphony.com
X-WR-CALDESC:Events for Niagara Symphony
REFRESH-INTERVAL;VALUE=DURATION:PT1H
X-Robots-Tag:noindex
X-PUBLISHED-TTL:PT1H
BEGIN:VTIMEZONE
TZID:America/Toronto
BEGIN:DAYLIGHT
TZOFFSETFROM:-0500
TZOFFSETTO:-0400
TZNAME:EDT
DTSTART:20230312T070000
END:DAYLIGHT
BEGIN:STANDARD
TZOFFSETFROM:-0400
TZOFFSETTO:-0500
TZNAME:EST
DTSTART:20231105T060000
END:STANDARD
BEGIN:DAYLIGHT
TZOFFSETFROM:-0500
TZOFFSETTO:-0400
TZNAME:EDT
DTSTART:20240310T070000
END:DAYLIGHT
BEGIN:STANDARD
TZOFFSETFROM:-0400
TZOFFSETTO:-0500
TZNAME:EST
DTSTART:20241103T060000
END:STANDARD
BEGIN:DAYLIGHT
TZOFFSETFROM:-0500
TZOFFSETTO:-0400
TZNAME:EDT
DTSTART:20250309T070000
END:DAYLIGHT
BEGIN:STANDARD
TZOFFSETFROM:-0400
TZOFFSETTO:-0500
TZNAME:EST
DTSTART:20251102T060000
END:STANDARD
END:VTIMEZONE
BEGIN:VEVENT
DTSTART;TZID=America/Toronto:20240505T143000
DTEND;TZID=America/Toronto:20240505T170000
DTSTAMP:20260424T234922
CREATED:20230503T233959Z
LAST-MODIFIED:20240426T191952Z
UID:10000048-1714919400-1714928400@niagarasymphony.com
SUMMARY:Mahler's Symphony No. 2
DESCRIPTION:Jocelyn Fralick\, sopranoBeste Kalender\, mezzoBuffalo Philharmonic Chorus \n\nNiagara native Jocelyn Fralick\, Turkish-Canadian Beste Kalender\, the BPC\, and the LSSSC join the NSO for a rousing finale to the NSO’s Diamond Anniversary Season. Voted the fifth-greatest symphony of all time in a survey of conductors carried out by the BBC Music Magazine\, Mahler’s Symphony No. 2 is known as the Resurrection Symphony. One of his most popular and successful works\, it was also his first major composition that established his lifelong view of the beauty of the afterlife\, and resurrection. In this large work\, Mahler further developed the creative “sound of the distance\,” his goal to compose a “world of its own\,” aspects of which were already seen in Mahler’s First Symphony. \n			\n				VIEW PROGRAM\n			\n				GET TICKETS
URL:https://niagarasymphony.com/event/mahlers-symphony-no-2/
LOCATION:Partridge Hall\, 250 St Paul St\, St. Catharines\, Ontario\, L2R 3M2\, Canada
CATEGORIES:NSO CLASSIC
ATTACH;FMTTYPE=image/jpeg:https://niagarasymphony.com/wp-content/uploads/2023/05/Mahler.jpg
END:VEVENT
END:VCALENDAR