BEGIN:VCALENDAR
VERSION:2.0
PRODID:-//Niagara Symphony - ECPv6.15.18//NONSGML v1.0//EN
CALSCALE:GREGORIAN
METHOD:PUBLISH
X-ORIGINAL-URL:https://niagarasymphony.com
X-WR-CALDESC:Events for Niagara Symphony
REFRESH-INTERVAL;VALUE=DURATION:PT1H
X-Robots-Tag:noindex
X-PUBLISHED-TTL:PT1H
BEGIN:VTIMEZONE
TZID:America/Toronto
BEGIN:DAYLIGHT
TZOFFSETFROM:-0500
TZOFFSETTO:-0400
TZNAME:EDT
DTSTART:20210314T070000
END:DAYLIGHT
BEGIN:STANDARD
TZOFFSETFROM:-0400
TZOFFSETTO:-0500
TZNAME:EST
DTSTART:20211107T060000
END:STANDARD
BEGIN:DAYLIGHT
TZOFFSETFROM:-0500
TZOFFSETTO:-0400
TZNAME:EDT
DTSTART:20220313T070000
END:DAYLIGHT
BEGIN:STANDARD
TZOFFSETFROM:-0400
TZOFFSETTO:-0500
TZNAME:EST
DTSTART:20221106T060000
END:STANDARD
BEGIN:DAYLIGHT
TZOFFSETFROM:-0500
TZOFFSETTO:-0400
TZNAME:EDT
DTSTART:20230312T070000
END:DAYLIGHT
BEGIN:STANDARD
TZOFFSETFROM:-0400
TZOFFSETTO:-0500
TZNAME:EST
DTSTART:20231105T060000
END:STANDARD
END:VTIMEZONE
BEGIN:VEVENT
DTSTART;TZID=America/Toronto:20220825T143000
DTEND;TZID=America/Toronto:20220825T163000
DTSTAMP:20260422T124919
CREATED:20210707T233959Z
LAST-MODIFIED:20220706T221118Z
UID:10000066-1661437800-1661445000@niagarasymphony.com
SUMMARY:Summer Under the Pavilion - Late Summer Symphony
DESCRIPTION:Denis Mastromonaco\, conductor \nMozart | Divertimento K. 136\, “Salzburg Symphony No 1”Verdi | Prelude to Act 1 from La TraviataElgar | Salut D’amourRossini | Overture to La Scala di SetaMozart | Symphony No. 40 \nThe Niagara Symphony Orchestra presents Summer Under the Pavilion – an outdoor concert experience for the whole family! Featuring selections chosen by guest conductor\, Denis Mastromonaco. Beverages and light snacks available for purchase\, free on-site parking. \nGeneral Admission: $30Children 16 and under FreeAdvance tickets required. \nGates open at 5:00pm \nRain or shine – covered seating \nFree on-site parking. Food and beverage vendor on-site. \n			\n				BOOK TICKETS\n			\n				\n				\n				\n				\n				Sponsored by:
URL:https://niagarasymphony.com/event/sutp-late-summer-symphony/
LOCATION:The Pavilion at St. George Orthodox Church\, 6085 Montrose Road\, Niagara Falls\, Ontario\, L2H 1L4
CATEGORIES:Summer Under the Pavilion
ATTACH;FMTTYPE=image/jpeg:https://niagarasymphony.com/wp-content/uploads/2021/07/Summer-Series.jpg
END:VEVENT
END:VCALENDAR