BEGIN:VCALENDAR
VERSION:2.0
PRODID:-//Niagara Symphony - ECPv6.15.18//NONSGML v1.0//EN
CALSCALE:GREGORIAN
METHOD:PUBLISH
X-ORIGINAL-URL:https://niagarasymphony.com
X-WR-CALDESC:Events for Niagara Symphony
REFRESH-INTERVAL;VALUE=DURATION:PT1H
X-Robots-Tag:noindex
X-PUBLISHED-TTL:PT1H
BEGIN:VTIMEZONE
TZID:America/Toronto
BEGIN:DAYLIGHT
TZOFFSETFROM:-0500
TZOFFSETTO:-0400
TZNAME:EDT
DTSTART:20220313T070000
END:DAYLIGHT
BEGIN:STANDARD
TZOFFSETFROM:-0400
TZOFFSETTO:-0500
TZNAME:EST
DTSTART:20221106T060000
END:STANDARD
BEGIN:DAYLIGHT
TZOFFSETFROM:-0500
TZOFFSETTO:-0400
TZNAME:EDT
DTSTART:20230312T070000
END:DAYLIGHT
BEGIN:STANDARD
TZOFFSETFROM:-0400
TZOFFSETTO:-0500
TZNAME:EST
DTSTART:20231105T060000
END:STANDARD
BEGIN:DAYLIGHT
TZOFFSETFROM:-0500
TZOFFSETTO:-0400
TZNAME:EDT
DTSTART:20240310T070000
END:DAYLIGHT
BEGIN:STANDARD
TZOFFSETFROM:-0400
TZOFFSETTO:-0500
TZNAME:EST
DTSTART:20241103T060000
END:STANDARD
END:VTIMEZONE
BEGIN:VEVENT
DTSTART;TZID=America/Toronto:20230729T143000
DTEND;TZID=America/Toronto:20230729T163000
DTSTAMP:20260423T091910
CREATED:20230411T193423Z
LAST-MODIFIED:20230619T200427Z
UID:10000053-1690641000-1690648200@niagarasymphony.com
SUMMARY:Bubbly\, Tea & Symphony
DESCRIPTION:Welcome to Bubbly\, Tea and Symphony. If you’ve never experienced afternoon tea start now – it will become one of your new favourite things. \nTickets are $125 per person and include:– A glass of Bubbly to welcome your arrival\,– Sweet and Savoury Towers of delectable sandwiches and cakes\,– Complimentary Wines and Bubbly during the afternoon festivities\,– A selection of Teas to enjoy\,– For your added enjoyment a Silent Auction and Live Auction will be part of the event. \nThe picturesque surroundings of Willowmere Haven is the perfect location to enjoy a cup of tea while listening to a quartet from the Niagara Symphony Orchestra. \nBUY TICKETS \nIn support of: NSO Educational & Youth Programs \nAll proceeds will be directed to support the NSO’s educational and youth programs. Since 1962\, the NSO’s flagship Summer Music Camp has been about having fun with music! Families from the Niagara Region and beyond get to work with professional musicians and music educators\, make friends\, attend recitals\, and perform in SMC concerts. All ages\, abilities\, and musical levels are welcome at SMC. \nOur Bubbly is generously sponsored by: \n \nLailey winery is re-born with the addition of the Stonebridge vineyard series of wines. Returning to our roots\, once again family owned and operated\, with an uncompromising pursuit of quality. With the highest quality grapes\, our minimal intervention approach to winemaking allows the wine to express the unique terroir of Niagara-on-the-Lake.
URL:https://niagarasymphony.com/event/bubbly-tea-symphony/
LOCATION:Willowmere Haven\, 981 Line 6 Rd\, Niagara-In-The-Lake\, Ontario\, L0S 1J0\, Canada
ATTACH;FMTTYPE=image/png:https://niagarasymphony.com/wp-content/uploads/2023/04/BT-Symphony-square-picture.png
END:VEVENT
END:VCALENDAR